BEGIN:VCALENDAR
VERSION:2.0
PRODID:icalendar-ruby
CALSCALE:GREGORIAN
X-WR-TIMEZONE:Europe/Helsinki
BEGIN:VTIMEZONE
TZID:Europe/Helsinki
BEGIN:DAYLIGHT
DTSTART:20260329T040000
TZOFFSETFROM:+0200
TZOFFSETTO:+0300
RRULE:FREQ=YEARLY;BYDAY=-1SU;BYMONTH=3
TZNAME:EEST
END:DAYLIGHT
BEGIN:STANDARD
DTSTART:20261025T030000
TZOFFSETFROM:+0300
TZOFFSETTO:+0200
RRULE:FREQ=YEARLY;BYDAY=-1SU;BYMONTH=10
TZNAME:EET
END:STANDARD
END:VTIMEZONE
BEGIN:VEVENT
DTSTAMP:20260421T194844
UID:pep.myclub.fi-3112506
DTSTART;TZID=Europe/Helsinki:20210808T120000
DTEND;TZID=Europe/Helsinki:20210808T130000
DESCRIPTION:https://pep.myclub.fi/flow/events/3112506
LOCATION:Metsämaan tekonurmi\, Örkkiniitynkuja 8\, 02970 Espoo
SEQUENCE:0
SUMMARY:P12: Harjoitukset Metsämaan kentällä klo 12-13
URL;VALUE=URI:https://pep.myclub.fi/flow/events/3112506
END:VEVENT
END:VCALENDAR
